BEGIN:VCALENDAR
VERSION:2.0
PRODID:-//CIB - ECPv6.15.20//NONSGML v1.0//EN
CALSCALE:GREGORIAN
METHOD:PUBLISH
X-WR-CALNAME:CIB
X-ORIGINAL-URL:https://cibworld.org
X-WR-CALDESC:Events for CIB
REFRESH-INTERVAL;VALUE=DURATION:PT1H
X-Robots-Tag:noindex
X-PUBLISHED-TTL:PT1H
BEGIN:VTIMEZONE
TZID:Africa/Johannesburg
BEGIN:STANDARD
TZOFFSETFROM:+0200
TZOFFSETTO:+0200
TZNAME:SAST
DTSTART:20220101T000000
END:STANDARD
END:VTIMEZONE
BEGIN:VEVENT
DTSTART;TZID=Africa/Johannesburg:20230830T160000
DTEND;TZID=Africa/Johannesburg:20230830T180000
DTSTAMP:20260421T001755
CREATED:20230705T094916Z
LAST-MODIFIED:20230705T094916Z
UID:8435-1693411200-1693418400@cibworld.org
SUMMARY:CCSDHC workshop 4 - External\, Innovation\, Indigenous Materials
DESCRIPTION:
URL:https://cibworld.org/event/ccsdhc-workshop-4-external-innovation-indigenous-materials/
LOCATION:Virtual
END:VEVENT
END:VCALENDAR