BEGIN:VCALENDAR
VERSION:2.0
PRODID:-//CIB - ECPv6.15.20//NONSGML v1.0//EN
CALSCALE:GREGORIAN
METHOD:PUBLISH
X-WR-CALNAME:CIB
X-ORIGINAL-URL:https://cibworld.org
X-WR-CALDESC:Events for CIB
REFRESH-INTERVAL;VALUE=DURATION:PT1H
X-Robots-Tag:noindex
X-PUBLISHED-TTL:PT1H
BEGIN:VTIMEZONE
TZID:America/Toronto
BEGIN:DAYLIGHT
TZOFFSETFROM:-0500
TZOFFSETTO:-0400
TZNAME:EDT
DTSTART:20220313T070000
END:DAYLIGHT
BEGIN:STANDARD
TZOFFSETFROM:-0400
TZOFFSETTO:-0500
TZNAME:EST
DTSTART:20221106T060000
END:STANDARD
BEGIN:DAYLIGHT
TZOFFSETFROM:-0500
TZOFFSETTO:-0400
TZNAME:EDT
DTSTART:20230312T070000
END:DAYLIGHT
BEGIN:STANDARD
TZOFFSETFROM:-0400
TZOFFSETTO:-0500
TZNAME:EST
DTSTART:20231105T060000
END:STANDARD
BEGIN:DAYLIGHT
TZOFFSETFROM:-0500
TZOFFSETTO:-0400
TZNAME:EDT
DTSTART:20240310T070000
END:DAYLIGHT
BEGIN:STANDARD
TZOFFSETFROM:-0400
TZOFFSETTO:-0500
TZNAME:EST
DTSTART:20241103T060000
END:STANDARD
BEGIN:DAYLIGHT
TZOFFSETFROM:-0500
TZOFFSETTO:-0400
TZNAME:EDT
DTSTART:20250309T070000
END:DAYLIGHT
BEGIN:STANDARD
TZOFFSETFROM:-0400
TZOFFSETTO:-0500
TZNAME:EST
DTSTART:20251102T060000
END:STANDARD
BEGIN:DAYLIGHT
TZOFFSETFROM:-0500
TZOFFSETTO:-0400
TZNAME:EDT
DTSTART:20260308T070000
END:DAYLIGHT
BEGIN:STANDARD
TZOFFSETFROM:-0400
TZOFFSETTO:-0500
TZNAME:EST
DTSTART:20261101T060000
END:STANDARD
END:VTIMEZONE
BEGIN:VEVENT
DTSTART;TZID=America/Toronto:20231106T000000
DTEND;TZID=America/Toronto:20231106T000000
DTSTAMP:20260422T183727
CREATED:20230803T115058Z
LAST-MODIFIED:20230803T115058Z
UID:8662-1699228800-1699228800@cibworld.org
SUMMARY:CIB Membership & Communications Committee
DESCRIPTION:
URL:https://cibworld.org/event/cib-membership-communications-committee-12/
CATEGORIES:CIB meeting
END:VEVENT
BEGIN:VEVENT
DTSTART;TZID=America/Toronto:20231120T000000
DTEND;TZID=America/Toronto:20231124T000000
DTSTAMP:20260422T183727
CREATED:20230803T112815Z
LAST-MODIFIED:20230803T113428Z
UID:8630-1700438400-1700784000@cibworld.org
SUMMARY:CIB Board meeting
DESCRIPTION:
URL:https://cibworld.org/event/cib-board-meeting-7/
LOCATION:Massey University\, Auckland\, New Zealand
CATEGORIES:CIB meeting
END:VEVENT
BEGIN:VEVENT
DTSTART;TZID=America/Toronto:20231130T000000
DTEND;TZID=America/Toronto:20231130T000000
DTSTAMP:20260422T183727
CREATED:20230803T112829Z
LAST-MODIFIED:20230803T112829Z
UID:8640-1701302400-1701302400@cibworld.org
SUMMARY:CIB Officers Committee
DESCRIPTION:
URL:https://cibworld.org/event/cib-officers-committee-10/
CATEGORIES:CIB meeting
END:VEVENT
BEGIN:VEVENT
DTSTART;TZID=America/Toronto:20240311T000000
DTEND;TZID=America/Toronto:20240313T000000
DTSTAMP:20260422T183727
CREATED:20230803T112817Z
LAST-MODIFIED:20230803T112817Z
UID:8631-1710115200-1710288000@cibworld.org
SUMMARY:CIB Board meeting
DESCRIPTION:
URL:https://cibworld.org/event/cib-board-meeting-8/
CATEGORIES:CIB meeting
END:VEVENT
BEGIN:VEVENT
DTSTART;TZID=America/Toronto:20240624T000000
DTEND;TZID=America/Toronto:20240627T000000
DTSTAMP:20260422T183727
CREATED:20230803T112818Z
LAST-MODIFIED:20230803T112818Z
UID:8632-1719187200-1719446400@cibworld.org
SUMMARY:CIB Board meeting
DESCRIPTION:
URL:https://cibworld.org/event/cib-board-meeting-9/
CATEGORIES:CIB meeting
END:VEVENT
BEGIN:VEVENT
DTSTART;TZID=America/Toronto:20240626T000000
DTEND;TZID=America/Toronto:20240626T000000
DTSTAMP:20260422T183727
CREATED:20230803T112812Z
LAST-MODIFIED:20230803T112812Z
UID:8627-1719360000-1719360000@cibworld.org
SUMMARY:CIB General Assembly
DESCRIPTION:
URL:https://cibworld.org/event/cib-general-assembly-3/
CATEGORIES:CIB meeting
END:VEVENT
BEGIN:VEVENT
DTSTART;TZID=America/Toronto:20241008T000000
DTEND;TZID=America/Toronto:20241011T000000
DTSTAMP:20260422T183727
CREATED:20230803T112818Z
LAST-MODIFIED:20230803T112818Z
UID:8633-1728345600-1728604800@cibworld.org
SUMMARY:CIB Board meeting
DESCRIPTION:
URL:https://cibworld.org/event/cib-board-meeting-10/
CATEGORIES:CIB meeting
END:VEVENT
BEGIN:VEVENT
DTSTART;TZID=America/Toronto:20250310T000000
DTEND;TZID=America/Toronto:20250312T000000
DTSTAMP:20260422T183727
CREATED:20230803T112819Z
LAST-MODIFIED:20230803T112819Z
UID:8634-1741564800-1741737600@cibworld.org
SUMMARY:CIB Board meeting
DESCRIPTION:
URL:https://cibworld.org/event/cib-board-meeting-11/
CATEGORIES:CIB meeting
END:VEVENT
BEGIN:VEVENT
DTSTART;TZID=America/Toronto:20250519T000000
DTEND;TZID=America/Toronto:20250522T000000
DTSTAMP:20260422T183727
CREATED:20230803T112819Z
LAST-MODIFIED:20230803T112819Z
UID:8635-1747612800-1747872000@cibworld.org
SUMMARY:CIB Board meeting
DESCRIPTION:
URL:https://cibworld.org/event/cib-board-meeting-12/
CATEGORIES:CIB meeting
END:VEVENT
END:VCALENDAR