BEGIN:VCALENDAR
VERSION:2.0
PRODID:-//CIB - ECPv6.15.20//NONSGML v1.0//EN
CALSCALE:GREGORIAN
METHOD:PUBLISH
X-ORIGINAL-URL:https://cibworld.org
X-WR-CALDESC:Events for CIB
REFRESH-INTERVAL;VALUE=DURATION:PT1H
X-Robots-Tag:noindex
X-PUBLISHED-TTL:PT1H
BEGIN:VTIMEZONE
TZID:Europe/London
BEGIN:DAYLIGHT
TZOFFSETFROM:+0000
TZOFFSETTO:+0100
TZNAME:BST
DTSTART:20220327T010000
END:DAYLIGHT
BEGIN:STANDARD
TZOFFSETFROM:+0100
TZOFFSETTO:+0000
TZNAME:GMT
DTSTART:20221030T010000
END:STANDARD
BEGIN:DAYLIGHT
TZOFFSETFROM:+0000
TZOFFSETTO:+0100
TZNAME:BST
DTSTART:20230326T010000
END:DAYLIGHT
BEGIN:STANDARD
TZOFFSETFROM:+0100
TZOFFSETTO:+0000
TZNAME:GMT
DTSTART:20231029T010000
END:STANDARD
BEGIN:DAYLIGHT
TZOFFSETFROM:+0000
TZOFFSETTO:+0100
TZNAME:BST
DTSTART:20240331T010000
END:DAYLIGHT
BEGIN:STANDARD
TZOFFSETFROM:+0100
TZOFFSETTO:+0000
TZNAME:GMT
DTSTART:20241027T010000
END:STANDARD
END:VTIMEZONE
BEGIN:VTIMEZONE
TZID:America/Toronto
BEGIN:DAYLIGHT
TZOFFSETFROM:-0500
TZOFFSETTO:-0400
TZNAME:EDT
DTSTART:20220313T070000
END:DAYLIGHT
BEGIN:STANDARD
TZOFFSETFROM:-0400
TZOFFSETTO:-0500
TZNAME:EST
DTSTART:20221106T060000
END:STANDARD
BEGIN:DAYLIGHT
TZOFFSETFROM:-0500
TZOFFSETTO:-0400
TZNAME:EDT
DTSTART:20230312T070000
END:DAYLIGHT
BEGIN:STANDARD
TZOFFSETFROM:-0400
TZOFFSETTO:-0500
TZNAME:EST
DTSTART:20231105T060000
END:STANDARD
BEGIN:DAYLIGHT
TZOFFSETFROM:-0500
TZOFFSETTO:-0400
TZNAME:EDT
DTSTART:20240310T070000
END:DAYLIGHT
BEGIN:STANDARD
TZOFFSETFROM:-0400
TZOFFSETTO:-0500
TZNAME:EST
DTSTART:20241103T060000
END:STANDARD
END:VTIMEZONE
BEGIN:VEVENT
DTSTART;TZID=Europe/London:20230908T090000
DTEND;TZID=Europe/London:20230908T100000
DTSTAMP:20260422T071221
CREATED:20230803T113233Z
LAST-MODIFIED:20230815T192407Z
UID:8650-1694163600-1694167200@cibworld.org
SUMMARY:CIB Programme Committee (PC)
DESCRIPTION:
URL:https://cibworld.org/event/cib-programme-committee-pc-7/
CATEGORIES:CIB meeting
END:VEVENT
BEGIN:VEVENT
DTSTART;TZID=America/Toronto:20230911T080000
DTEND;TZID=America/Toronto:20230911T090000
DTSTAMP:20260422T071221
CREATED:20230803T114901Z
LAST-MODIFIED:20230904T141443Z
UID:8661-1694419200-1694422800@cibworld.org
SUMMARY:CIB Membership & Communications Committee
DESCRIPTION:
URL:https://cibworld.org/event/cib-membership-communications-committee-11/
CATEGORIES:CIB meeting
END:VEVENT
BEGIN:VEVENT
DTSTART;TZID=America/Toronto:20230926T000000
DTEND;TZID=America/Toronto:20230926T000000
DTSTAMP:20260422T071221
CREATED:20230803T112829Z
LAST-MODIFIED:20230803T112829Z
UID:8639-1695686400-1695686400@cibworld.org
SUMMARY:CIB Officers Committee
DESCRIPTION:
URL:https://cibworld.org/event/cib-officers-committee-9/
CATEGORIES:CIB meeting
END:VEVENT
END:VCALENDAR